BEGIN:VCALENDAR
VERSION:2.0
PRODID:-//World Crypto Index - ECPv4.6.11//NONSGML v1.0//EN
CALSCALE:GREGORIAN
METHOD:PUBLISH
X-WR-CALNAME:World Crypto Index
X-ORIGINAL-URL:https://www.worldcryptoindex.com
X-WR-CALDESC:Events for World Crypto Index
BEGIN:VEVENT
DTSTART;TZID=UTC+0:20250328T080000
DTEND;TZID=UTC+0:20251031T170000
DTSTAMP:20260419T202943
CREATED:20250328T183416Z
LAST-MODIFIED:20250328T183417Z
UID:7678-1743148800-1761930000@www.worldcryptoindex.com
SUMMARY:European Central bank to release CBDC by October 2025
DESCRIPTION:Possibly In response to the quick movement by the Trump Administration. The European Central Bank’s (ECB) has announced they plan to launch a CBDC by October of this year (2025). This announcement is recent\, however efforts have been  ongoing  since 2023. The EU is still in the process exploring how the digital euro could transform the EU’s financial system. With the ECB’s preparatory phase running from October 2023 to October 2025. Christine Lagarde\, the President of the European Central Bank\, has said\, \n \n. They plan to introduce the CDC through a phased approach\, and are currently in the preparation phase. Follow our news page for more breaking crypto news in 2025. \n\n     Key Topics\n\nDevelopment Timeline: The journey of the digital euro from concept to potential launch in the EU.\nIntegration in the EU: How the digital euro will work within the Eurozone’s financial framework.\nPrivacy and Security: Addressing concerns and safeguards for EU citizens using a digital currency.\nFinancial Inclusion: The digital euro’s potential to enhance access to financial services across EU member states.\nEU Financial Impact: Effects on banks\, businesses\, and consumers within the European Union.\n\n\nSummary\n				jQuery("#bsf-rating").click(function()\n				{\n					var data = jQuery("#bsf-rating").serialize();\n					var form_data = "action=bsf_submit_rating&" + data;\n				//	alert(form_data);\n					jQuery.post(ajaxurl\, form_data\,\n						function (response) {\n							alert(response);\n							window.location.href = window.location.href;\n						}\n					);\n				});\n			\n			Author RatingAggregate Ratingno rating based on 0 votes Brand Name  CBDCProduct Name  Central Bank Digital Currency \n			
URL:https://www.worldcryptoindex.com/event/european-central-bank-to-release-cbdc-by-october-2025/
LOCATION:Sonnemannstraße 20\, 60314\, Frankfurt\, Germany
CATEGORIES:Digitalized Assets,Policy,Regulatory Updates
ATTACH;FMTTYPE=image/jpeg:https://www.worldcryptoindex.com/wp-content/uploads/2025/03/EU-Central-Bank.jpg
END:VEVENT
END:VCALENDAR