BEGIN:VCALENDAR
VERSION:2.0
PRODID:-//World Crypto Index - ECPv4.6.11//NONSGML v1.0//EN
CALSCALE:GREGORIAN
METHOD:PUBLISH
X-WR-CALNAME:World Crypto Index
X-ORIGINAL-URL:https://www.worldcryptoindex.com
X-WR-CALDESC:Events for World Crypto Index
BEGIN:VEVENT
DTSTART;VALUE=DATE:20180216
DTEND;VALUE=DATE:20180219
DTSTAMP:20260419T215104
CREATED:20180215T053327Z
LAST-MODIFIED:20180215T053916Z
UID:2814-1518739200-1518998399@www.worldcryptoindex.com
SUMMARY:The Bitcoin\, Ethereum\, & Blockchain SuperConference
DESCRIPTION:The Bitcoin SuperConference is a meetup for crypto enthusiasts\, new investors\, industry-related companies\, ICO’s\, blockchain startups\, venture capitalists\, investors\, entrepreneurs and journalists. It features a number of notable keynote speakers including John McCaffee\, Tim Draper and other influential people in the cryptocurrency space. \n
URL:https://www.worldcryptoindex.com/event/bitcoin-ethereum-blockchain-superconference/
LOCATION:8440 Freeport Pkwy\, Irving\, TX\, 75063\, United States
CATEGORIES:Bitcoin Events,Bitcoin Forks
END:VEVENT
END:VCALENDAR