BEGIN:VCALENDAR
VERSION:2.0
PRODID:-//World Crypto Index - ECPv4.6.11//NONSGML v1.0//EN
CALSCALE:GREGORIAN
METHOD:PUBLISH
X-WR-CALNAME:World Crypto Index
X-ORIGINAL-URL:https://www.worldcryptoindex.com
X-WR-CALDESC:Events for World Crypto Index
BEGIN:VEVENT
DTSTART;TZID=UTC+0:20250527T080000
DTEND;TZID=UTC+0:20250527T170000
DTSTAMP:20260419T202818
CREATED:20250331T070601Z
LAST-MODIFIED:20250331T070602Z
UID:7734-1748332800-1748365200@www.worldcryptoindex.com
SUMMARY:Bitcoin 2025 Vegas Conference
DESCRIPTION:Bitcoin 2025 Vegas Conference – The World’s Largest Bitcoin Gathering\n \nSummary\n				jQuery(document).ready(function() {\n                    jQuery(".snippet-label-img").addClass("snippet-clear");\n                });\n			Event ​Bitcoin 2025 Conference\n			\n			Location  \n				​\n							venetian\,\n							  3355 S Las Vegas Blvd\,Nevada\,-89109\n			Starting on  May 27\, 2025Ending on  May 29\, 2025Description  Expected Attendance: Over 35\,000 attendees\, 300+ exhibitors\, 300+ speakers\nTheme: Driving Global Hyperbitcoinization  \n\nThe Bitcoin 2025 hosts the largest exhibition of Bitcoin companies in the world.\nHere’s a look at our mainstays with more to be announced! https://b.tc/conference/2025/experience\n			\n			\n			
URL:https://www.worldcryptoindex.com/event/bitcoin-2025-vegas-conference/
LOCATION:3355 S Las Vegas Blvd\, Las Vegas\, NV\, 89109\, United States
CATEGORIES:Bitcoin Events,Digitalized Assets,US Financial Markets
ATTACH;FMTTYPE=image/png:https://www.worldcryptoindex.com/wp-content/uploads/2025/03/btcconference.png
END:VEVENT
END:VCALENDAR